BEGIN:VCALENDAR
VERSION:2.0
CALSCALE:GREGORIAN
PRODID:-//Diputació de Barcelona//DibaCMS//EN
BEGIN:VEVENT
UID:2581
DTSTAMP:20260423T081204
DTSTART:20160305T194500
DTEND:20160305T000000
SUMMARY:JAZZ - Aula de música Quartet + Jazz we can
LOCATION:
METHOD:PUBLISH
X-WR-CALNAME:ullastrell@ullastrell.cat
X-WR-TIMEZONE:Europe/Madrid
DESCRIPTION:Dins els actes de les XIª Festes de Serralavella i el 35è Festival de Jazz Terrassa, Ullastrell s'estrena com a nou escenari amb AULA DE MÚSICA QUARTET + JAZZ WE CAN.


José Aladid, saxo alt
Moises Solé, guitarra
Pep Coca, contrabaix
Sergi Torrejón, bateria

 
No us ho perdeu!!Lloc: Bar del Casal Cultural d'UllastrellOrganitzador: Jazz Terrassa - Cumi. Serralavella
URI:https://www.ullastrell.cat/actualitat/agenda/jazz-aula-de-musica-quartet--jazz-we-can.html
CLASS:PUBLIC
END:VEVENT
END:VCALENDAR
