BEGIN:VCALENDAR
VERSION:2.0
CALSCALE:GREGORIAN
PRODID:-//Diputació de Barcelona//DibaCMS//EN
BEGIN:VEVENT
UID:2582
DTSTAMP:20260422T233127
DTSTART:20160303T213000
DTEND:20160303T000000
SUMMARY:Presentació de la novel.la "LA VIDA SENSE LA SARA AMAT"
LOCATION:
METHOD:PUBLISH
X-WR-CALNAME:ullastrell@ullastrell.cat
X-WR-TIMEZONE:Europe/Madrid
DESCRIPTION:Us convidem a assistir a la presentació del llibre de Pep Puig Ponsa "La vida sense la Sara Amat" de l'editorial Proa i guanyador del Premi Sant Jordi 2015.
 
La presentació anirà a càrrec de Neus Salarich.Lloc: Sala Actes del Casal Cultural d'UllastrellOrganitzador: Aj. Ullastrell - Cumi. Serralavella
URI:https://www.ullastrell.cat/actualitat/agenda/presentacio-de-la-novella-la-vida-sense-la-sara-amat.html
CLASS:PUBLIC
END:VEVENT
END:VCALENDAR
