BEGIN:VCALENDAR
VERSION:2.0
CALSCALE:GREGORIAN
PRODID:-//Diputació de Barcelona//DibaCMS//EN
BEGIN:VEVENT
UID:2583
DTSTAMP:20260422T204118
DTSTART:20160313T183000
DTEND:20160313T000000
SUMMARY:XXVII MOSTRA DE TEATRE: "Cervells en la fosca"
LOCATION:
METHOD:PUBLISH
X-WR-CALNAME:ullastrell@ullastrell.cat
X-WR-TIMEZONE:Europe/Madrid
DESCRIPTION:XXVII Mostra de TeatreDins la XXVII Mostra de Teatre el Grup Teatral de Capellades ens oferirà l'obra " Cervells en la fosca"Lloc: Sala actes del Casal CulturalOrganitzador: GATU
URI:https://www.ullastrell.cat/actualitat/agenda/xxvii-mostra-de-teatre-cervells-en-la-fosca.html
CLASS:PUBLIC
END:VEVENT
END:VCALENDAR
