BEGIN:VCALENDAR
VERSION:2.0
CALSCALE:GREGORIAN
PRODID:-//Diputació de Barcelona//DibaCMS//EN
BEGIN:VEVENT
UID:2584
DTSTAMP:20260423T135151
DTSTART:20160312T180000
DTEND:20160312T000000
SUMMARY:ASSAIG CARAMELLES - 12/03/2016
LOCATION:
METHOD:PUBLISH
X-WR-CALNAME:ullastrell@ullastrell.cat
X-WR-TIMEZONE:Europe/Madrid
DESCRIPTION:Assaig:

Dissabte 12 de març: Petits a les 18:00. Grans: a les 18:30.Altell del Casal
Dissabte 19 de març: Petits a les 11:00. Grans: a les 11:30. Altell del Casal

Assaig General:

Dissabte 2 d'abril: Petits i Grans a les 17h. A la residència, i després repàs a l'altell del casal

Direcció: Mercè Puig i Mar Puig
Organitza: Comissió de Caramelles
 

Lloc: Altell del CasalOrganitzador: Comissió de caramelles
URI:https://www.ullastrell.cat/actualitat/agenda/assaig-caramelles-12032016.html
CLASS:PUBLIC
END:VEVENT
END:VCALENDAR
