BEGIN:VCALENDAR
VERSION:2.0
CALSCALE:GREGORIAN
PRODID:-//Diputació de Barcelona//DibaCMS//EN
BEGIN:VEVENT
UID:2585
DTSTAMP:20260422T214120
DTSTART:20160306T190000
DTEND:20160306T000000
SUMMARY:XI TROBADA DE CANT CORAL
LOCATION:
METHOD:PUBLISH
X-WR-CALNAME:ullastrell@ullastrell.cat
X-WR-TIMEZONE:Europe/Madrid
DESCRIPTION:Dins les Festes de Serralavella, la Coral organitza la XI Trobada de Cant Coral enguany amb:

Coral La Unió de Castellbisbal
Cor de Noies de Matadepera
Coral d'Ullastrell

Preu entrada: 3€
Podeu comprar les entrades una hora abans al Casal.Lloc: Sala Actes del CasalOrganitzador: CORAL ULLASTRELL
URI:https://www.ullastrell.cat/actualitat/agenda/xi-trobada-de-cant-coral.html
CLASS:PUBLIC
END:VEVENT
END:VCALENDAR
