BEGIN:VCALENDAR
VERSION:2.0
CALSCALE:GREGORIAN
PRODID:-//Diputació de Barcelona//DibaCMS//EN
BEGIN:VEVENT
UID:2587
DTSTAMP:20260423T201021
DTSTART:20160402T170000
DTEND:20160402T000000
SUMMARY:ÚLTIM ASSAIG CARAMELLES
LOCATION:
METHOD:PUBLISH
X-WR-CALNAME:ullastrell@ullastrell.cat
X-WR-TIMEZONE:Europe/Madrid
DESCRIPTION:Assaig:

 Dissabte 12 de març: Petits a les 18:00. Grans: a les 18:30.Altell del Casal
 Dissabte 19 de març: Petits a les 11:00. Grans: a les 11:30. Altell del Casal

Assaig General:

 Dissabte 2 d'abril: Petits i Grans a les 17h. a la residència, i després repàs a l'altell del casal

Direcció: Mercè Puig i Mar Puig
Organitza: Comissió de Caramelles
 Lloc: Residència gent gran i Altell del CasalOrganitzador: Comissió Caramelles
URI:https://www.ullastrell.cat/actualitat/agenda/ultim-assaig-caramelles.html
CLASS:PUBLIC
END:VEVENT
END:VCALENDAR
