BEGIN:VCALENDAR
VERSION:2.0
CALSCALE:GREGORIAN
PRODID:-//Diputació de Barcelona//DibaCMS//EN
BEGIN:VEVENT
UID:2588
DTSTAMP:20260423T134835
DTSTART:20160325T200000
DTEND:20160325T000000
SUMMARY:VIA CRUCIS pels carrers del poble
LOCATION:
METHOD:PUBLISH
X-WR-CALNAME:ullastrell@ullastrell.cat
X-WR-TIMEZONE:Europe/Madrid
DESCRIPTION:DIVENDRES SANTS'inicia a l'església la Processó del Via Crucis, que seguirà pels carrers del poble - Sardà, Serra i Can Gras-  on hi estaran ubicades les diferents estacions.Lloc: Organitzador: Parròquia Santa Maria d'Ullastrell
URI:https://www.ullastrell.cat/actualitat/agenda/via-crucis-pels-carrers-del-poble.html
CLASS:PUBLIC
END:VEVENT
END:VCALENDAR
