BEGIN:VCALENDAR
VERSION:2.0
CALSCALE:GREGORIAN
PRODID:-//Diputació de Barcelona//DibaCMS//EN
BEGIN:VEVENT
UID:2589
DTSTAMP:20260423T121007
DTSTART:20160403T000000
DTEND:20160403T000000
SUMMARY:SORTIDA GEGANTERA - 03/04/2016
LOCATION:
METHOD:PUBLISH
X-WR-CALNAME:ullastrell@ullastrell.cat
X-WR-TIMEZONE:Europe/Madrid
DESCRIPTION:MontmelóEls nostres gegants passejaran per Montmeló.Lloc: MONTMELÓOrganitzador: GEGANTERS D'ULLASTRELL
URI:https://www.ullastrell.cat/actualitat/agenda/sortida-gegantera-03042016.html
CLASS:PUBLIC
END:VEVENT
END:VCALENDAR
