BEGIN:VCALENDAR
VERSION:2.0
CALSCALE:GREGORIAN
PRODID:-//Diputació de Barcelona//DibaCMS//EN
BEGIN:VEVENT
UID:2590
DTSTAMP:20260423T091337
DTSTART:20160403T101500
DTEND:20160403T140000
SUMMARY:CARAMELLES - 03/04/2016
LOCATION:
METHOD:PUBLISH
X-WR-CALNAME:ullastrell@ullastrell.cat
X-WR-TIMEZONE:Europe/Madrid
DESCRIPTION:Per Pasqüetes a Ullastrell cantem les caramelles!
 
RECORREGUT
10:15h. Convocatòria de tots i totes les cantaires a la Plaça Sant Miquel
10:30h. Cantada a la Pl. Sant Miquel
10:50h. Cantada davant de Ca l'Estevet
11:10h. Cantada a la Placeta dels Infants, amb refrigeri  (Aquí s'afegeixen els cantaires més petits)
11:40h. Cantada a la Pl.Lluís Companys
12:00h. Cantada davant de Cal Ros
13:15h. Cantada a dins de l'esgésia
*En acabar, tots i totes les cantaires tindran un refrigeri a la Sala de Reunions de la Parròquia.
 
Direcció: Mercè Puig i Mar Puig
 Lloc: Pels carrers del pobleOrganitzador: Comissió de Caramelles
URI:https://www.ullastrell.cat/actualitat/agenda/caramelles-03042016.html
CLASS:PUBLIC
END:VEVENT
END:VCALENDAR
