BEGIN:VCALENDAR
VERSION:2.0
CALSCALE:GREGORIAN
PRODID:-//Diputació de Barcelona//DibaCMS//EN
BEGIN:VEVENT
UID:2591
DTSTAMP:20260423T134510
DTSTART:20160409T190000
DTEND:20160409T000000
SUMMARY:CONCERT "MÚSICA D'AMÈRICA DEL NORD" - 09/04/2016
LOCATION:
METHOD:PUBLISH
X-WR-CALNAME:ullastrell@ullastrell.cat
X-WR-TIMEZONE:Europe/Madrid
DESCRIPTION:La Coral d'Ullastrell participa en un gran concert que es farà el dia 9 d'Abril a Cerdanyola i el dia 17 d'abril a Ullastrell.
Interpretaran junt amb la Coral de l'Agrupació Musical de Cerdanyola, la Coral Cor de Músic de Castelldefels i la Cia. Steps de dansa, musicals de Broadway i la missa Jazz.
Les entrades les venen al mateix Ateneu de Cerdanyola, 3€.Lloc: CerdanyolaOrganitzador: Coral d'Ullastrell
URI:https://www.ullastrell.cat/actualitat/agenda/concert-musica-damerica-del-nord-09042016.html
CLASS:PUBLIC
END:VEVENT
END:VCALENDAR
