BEGIN:VCALENDAR
VERSION:2.0
CALSCALE:GREGORIAN
PRODID:-//Diputació de Barcelona//DibaCMS//EN
BEGIN:VEVENT
UID:2592
DTSTAMP:20260423T080206
DTSTART:20160417T190000
DTEND:20160417T000000
SUMMARY:CONCERT "MÚSICA d'AMÈRICA DEL NORD" - 17/04/2016
LOCATION:
METHOD:PUBLISH
X-WR-CALNAME:ullastrell@ullastrell.cat
X-WR-TIMEZONE:Europe/Madrid
DESCRIPTION:Interpretaran junt amb la Coral de l'Agrupació Musical de Cerdanyola, la Coral Cor de Músic de Castelldefels i tres ballarines, musicals de Broadway i la missa Jazz de Bob Chilcott.
Les entrades es vendran al Casal 1 hora abans.
Preu: 5€
 Lloc: SALA ACTES DEL CASALOrganitzador: Coral d'Ullastrell
URI:https://www.ullastrell.cat/actualitat/agenda/concert-musica-damerica-del-nord-17042016.html
CLASS:PUBLIC
END:VEVENT
END:VCALENDAR
