BEGIN:VCALENDAR
VERSION:2.0
CALSCALE:GREGORIAN
PRODID:-//Diputació de Barcelona//DibaCMS//EN
BEGIN:VEVENT
UID:2593
DTSTAMP:20260423T003947
DTSTART:20160420T170000
DTEND:20160420T000000
SUMMARY:SANT JORDI - Taller per infants
LOCATION:
METHOD:PUBLISH
X-WR-CALNAME:ullastrell@ullastrell.cat
X-WR-TIMEZONE:Europe/Madrid
DESCRIPTION:Es portaran a terme tallers de Sant Jordi.Lloc: DAVANT LA BIBLIOTECAOrganitzador: Biblioteca i Bibliobús
URI:https://www.ullastrell.cat/actualitat/agenda/sant-jordi-taller-per-infants.html
CLASS:PUBLIC
END:VEVENT
END:VCALENDAR
