BEGIN:VCALENDAR
VERSION:2.0
CALSCALE:GREGORIAN
PRODID:-//Diputació de Barcelona//DibaCMS//EN
BEGIN:VEVENT
UID:2594
DTSTAMP:20260423T104023
DTSTART:20160416T000000
DTEND:20160416T000000
SUMMARY:SORTIDA A "LA PASSIÓ"
LOCATION:
METHOD:PUBLISH
X-WR-CALNAME:ullastrell@ullastrell.cat
X-WR-TIMEZONE:Europe/Madrid
DESCRIPTION:La Colla de la Gent Gran aniran a veure La Passió d'Esparreguera.Lloc: ESPARREGUERAOrganitzador: Colla de la Gent Gran
URI:https://www.ullastrell.cat/actualitat/agenda/sortida-a-la-passio.html
CLASS:PUBLIC
END:VEVENT
END:VCALENDAR
