BEGIN:VCALENDAR
VERSION:2.0
CALSCALE:GREGORIAN
PRODID:-//Diputació de Barcelona//DibaCMS//EN
BEGIN:VEVENT
UID:2595
DTSTAMP:20260423T003737
DTSTART:20160418T000000
DTEND:20160423T000000
SUMMARY:SORTIDA A CASTELLA I LLEÓ
LOCATION:
METHOD:PUBLISH
X-WR-CALNAME:ullastrell@ullastrell.cat
X-WR-TIMEZONE:Europe/Madrid
DESCRIPTION:Setmana d'excursió amb La Colla de la Gent Gran per Castella i LleóLloc: Castella i LleóOrganitzador: Colla de la Gent Gran
URI:https://www.ullastrell.cat/actualitat/agenda/sortida-a-castella-i-lleo.html
CLASS:PUBLIC
END:VEVENT
END:VCALENDAR
