BEGIN:VCALENDAR
VERSION:2.0
CALSCALE:GREGORIAN
PRODID:-//Diputació de Barcelona//DibaCMS//EN
BEGIN:VEVENT
UID:2596
DTSTAMP:20260423T005610
DTSTART:20160420T200000
DTEND:20160420T000000
SUMMARY:ÚLTIM DIA  - CONCURS DE PUNT DE LLIBRE
LOCATION:
METHOD:PUBLISH
X-WR-CALNAME:ullastrell@ullastrell.cat
X-WR-TIMEZONE:Europe/Madrid
DESCRIPTION:Dimecres 20 serà l'últim dia per presentar els treballs del Concurs de Punt de Llibre.
Descarrega't les bases i pinta!Lloc: BibliotecaOrganitzador: Biblioteca Josep Massagué
URI:https://www.ullastrell.cat/actualitat/agenda/ultim-dia-concurs-de-punt-de-llibre.html
CLASS:PUBLIC
END:VEVENT
END:VCALENDAR
