BEGIN:VCALENDAR
VERSION:2.0
CALSCALE:GREGORIAN
PRODID:-//Diputació de Barcelona//DibaCMS//EN
BEGIN:VEVENT
UID:2597
DTSTAMP:20260423T035344
DTSTART:20160424T190000
DTEND:20160424T000000
SUMMARY:MOSTRA DE TEATRE: AMB ELS PIXATS AL VENTRE
LOCATION:
METHOD:PUBLISH
X-WR-CALNAME:ullastrell@ullastrell.cat
X-WR-TIMEZONE:Europe/Madrid
DESCRIPTION:Nova representació de teatre dins la XXVIIª MOSTRA, on ens visitarà el Grup Paranys de San Joan de Vilatorrada amb la comèdia "Amb els pixats al ventre"
ATENCIÓ: Nou horari de primavera, l'obra serà a les 7 de la tarda.Lloc: Sala d'actes del casalOrganitzador: GATU
URI:https://www.ullastrell.cat/actualitat/agenda/mostra-de-teatre-amb-els-pixats-al-ventre.html
CLASS:PUBLIC
END:VEVENT
END:VCALENDAR
