BEGIN:VCALENDAR
VERSION:2.0
CALSCALE:GREGORIAN
PRODID:-//Diputació de Barcelona//DibaCMS//EN
BEGIN:VEVENT
UID:2598
DTSTAMP:20260423T045128
DTSTART:20160420T000000
DTEND:20160423T000000
SUMMARY:SANT JORDI A ULLASTRELL
LOCATION:
METHOD:PUBLISH
X-WR-CALNAME:ullastrell@ullastrell.cat
X-WR-TIMEZONE:Europe/Madrid
DESCRIPTION:
Aqui teniu el cartell amb les diferents activitats en motiu de Sant Jordi a Ullastrell!
Nota: L'espectacle de dissabte no és improshow, sinó espectacle d'improvització familiarLloc: Organitzador: Reg. Cultura
URI:https://www.ullastrell.cat/actualitat/agenda/sant-jordi-a-ullastrell.html
CLASS:PUBLIC
END:VEVENT
END:VCALENDAR
