BEGIN:VCALENDAR
VERSION:2.0
CALSCALE:GREGORIAN
PRODID:-//Diputació de Barcelona//DibaCMS//EN
BEGIN:VEVENT
UID:2599
DTSTAMP:20260423T120549
DTSTART:20160424T090000
DTEND:20160424T000000
SUMMARY:SORTIDA GEGANTERA - 24/04/2016
LOCATION:
METHOD:PUBLISH
X-WR-CALNAME:ullastrell@ullastrell.cat
X-WR-TIMEZONE:Europe/Madrid
DESCRIPTION:Els nostres gegants visitaran el poble de Balsareny.Lloc: BalsarenyOrganitzador: Geganters d'Ullastrell
URI:https://www.ullastrell.cat/actualitat/agenda/sortida-gegantera-24042016.html
CLASS:PUBLIC
END:VEVENT
END:VCALENDAR
