BEGIN:VCALENDAR
VERSION:2.0
CALSCALE:GREGORIAN
PRODID:-//Diputació de Barcelona//DibaCMS//EN
BEGIN:VEVENT
UID:2600
DTSTAMP:20260423T065441
DTSTART:20160522T190000
DTEND:20160522T190000
SUMMARY:XXVII MOSTRA DE TEATRE: "LES TRES GERMANES"
LOCATION:
METHOD:PUBLISH
X-WR-CALNAME:ullastrell@ullastrell.cat
X-WR-TIMEZONE:Europe/Madrid
DESCRIPTION:XXVII Mostra de teatreDins la XXVII Mostra de teatre el Grup teatral Pierrot  de Centelles , posa en escena l'obra " Les tres germanes" d'Antón ChejovLloc: Sala actes del CasalOrganitzador: GATU
URI:https://www.ullastrell.cat/actualitat/agenda/xxvii-mostra-de-teatre-les-tres-germanes.html
CLASS:PUBLIC
END:VEVENT
END:VCALENDAR
