BEGIN:VCALENDAR
VERSION:2.0
CALSCALE:GREGORIAN
PRODID:-//Diputació de Barcelona//DibaCMS//EN
BEGIN:VEVENT
UID:2601
DTSTAMP:20260422T231122
DTSTART:20160515T000000
DTEND:20160515T000000
SUMMARY:SORTIDA GEGANTERA - 15/05/2016
LOCATION:
METHOD:PUBLISH
X-WR-CALNAME:ullastrell@ullastrell.cat
X-WR-TIMEZONE:Europe/Madrid
DESCRIPTION:Sortida gegantera a LLinars del VallèsEls gegants passejaran per LLinars del VallèsLloc: LLINARS DEL VALLÈSOrganitzador: GEGANTERS D'ULLASTRELL
URI:https://www.ullastrell.cat/actualitat/agenda/sortida-gegantera-15052016.html
CLASS:PUBLIC
END:VEVENT
END:VCALENDAR
