BEGIN:VCALENDAR
VERSION:2.0
CALSCALE:GREGORIAN
PRODID:-//Diputació de Barcelona//DibaCMS//EN
BEGIN:VEVENT
UID:2602
DTSTAMP:20260423T022733
DTSTART:20160508T120000
DTEND:20160508T131500
SUMMARY:EXHIBICIÓ DE VEHÍCLES D'ÈPOCA - 08/05/2016
LOCATION:
METHOD:PUBLISH
X-WR-CALNAME:ullastrell@ullastrell.cat
X-WR-TIMEZONE:Europe/Madrid
DESCRIPTION:Ullastrell participa de nou a la Fira Modernista de Terrassa, i el diumenge 8 de maig a les 12h. arribarà el Rally de vehicles d'època que s'exposaran al llarg del carrer Serra.
Es podran veure motos i cotxes de principi de S.XX.
A les 13:15h. marxaran altra vegada cap a Terrassa.
 
*No es podrà aparcar al llarg del C/Serra i estarà tallat al trànsit des de La Mola.Lloc: Carrer de la Serra - davant AjuntamentOrganitzador: Reg. Cultura - Aj. Terrassa
URI:https://www.ullastrell.cat/actualitat/agenda/exhibicio-de-vehicles-depoca-08052016.html
CLASS:PUBLIC
END:VEVENT
END:VCALENDAR
