BEGIN:VCALENDAR
VERSION:2.0
CALSCALE:GREGORIAN
PRODID:-//Diputació de Barcelona//DibaCMS//EN
BEGIN:VEVENT
UID:2603
DTSTAMP:20260422T154841
DTSTART:20150720T203000
DTEND:20150720T000000
SUMMARY:MISSA FUNERAL PER MN. RAMON CASAFONT
LOCATION:
METHOD:PUBLISH
X-WR-CALNAME:ullastrell@ullastrell.cat
X-WR-TIMEZONE:Europe/Madrid
DESCRIPTION:MISSA FUNERAL PER MOSSÈN RAMONMissa funeral pel que va ser rector de la Parròquia de Santa Maria d'Ullastrell, del 1977 al 2005, Mn. Ramon Casafont Baliellas.Lloc: ESGLÈSIA SANTA MARIA D'ULLASTRELLOrganitzador: PARRÒQUIA DE SANTA MARIA D'ULLASTRELL
URI:https://www.ullastrell.cat/actualitat/agenda/missa-funeral-per-mn-ramon-casafont.html
CLASS:PUBLIC
END:VEVENT
END:VCALENDAR
