BEGIN:VCALENDAR
VERSION:2.0
CALSCALE:GREGORIAN
PRODID:-//Diputació de Barcelona//DibaCMS//EN
BEGIN:VEVENT
UID:2604
DTSTAMP:20260422T142638
DTSTART:20150906T000000
DTEND:20150906T000000
SUMMARY:SORTIDA GEGANTERA - 06/09/2015
LOCATION:
METHOD:PUBLISH
X-WR-CALNAME:ullastrell@ullastrell.cat
X-WR-TIMEZONE:Europe/Madrid
DESCRIPTION:Sortida geganteraSortida dels Gegants d'Ullastrell al poble de Falset.Lloc: FALSETOrganitzador: GEGANTERS D'ULLASTRELL
URI:https://www.ullastrell.cat/actualitat/agenda/sortida-gegantera-06092015.html
CLASS:PUBLIC
END:VEVENT
END:VCALENDAR
