BEGIN:VCALENDAR
VERSION:2.0
CALSCALE:GREGORIAN
PRODID:-//Diputació de Barcelona//DibaCMS//EN
BEGIN:VEVENT
UID:2605
DTSTAMP:20260422T143732
DTSTART:20150905T203000
DTEND:20150905T000000
SUMMARY:ACTES 11 DE SETEMBRE - Pel.lícula "L'Endemà" i venda tiquets autocar
LOCATION:
METHOD:PUBLISH
X-WR-CALNAME:ullastrell@ullastrell.cat
X-WR-TIMEZONE:Europe/Madrid
DESCRIPTION:A les 20:30h. a l'entrada del Casal, venda de tiquets de l'autocar i entrega de samarretes de la Via Lliure cap a la República Catalana.
A les 21:30h. a la Sala d'Actes del Casal, CINE - FORUM:Projecció de la pel.lícula "L'endemà" d'Isona Passola i a la seva finalització intercanvi d'opinions.Entrada gratuïta.Lloc: Casal CulturalOrganitzador: ANC - ULLASTRELL
URI:https://www.ullastrell.cat/actualitat/agenda/actes-11-de-setembre-pellicula-lendema-i-venda-tiquets-autocar.html
CLASS:PUBLIC
END:VEVENT
END:VCALENDAR
