BEGIN:VCALENDAR
VERSION:2.0
CALSCALE:GREGORIAN
PRODID:-//Diputació de Barcelona//DibaCMS//EN
BEGIN:VEVENT
UID:2606
DTSTAMP:20260422T143209
DTSTART:20150910T200000
DTEND:20150910T000000
SUMMARY:ACTES 11 DE SETEMBRE - Campanya ANC "Desitjos Voladors"
LOCATION:
METHOD:PUBLISH
X-WR-CALNAME:ullastrell@ullastrell.cat
X-WR-TIMEZONE:Europe/Madrid
DESCRIPTION:Acte campanya d'estiu de l'ANC: Elaboració i llançament de "Desitjos Voladors" sobre la Cultura i Educació de la nova República de Catalunya.
Durant l'acte, si encara hi ha disponibilitat, es vendran tiquets per a l'autocar.
 
 
*AVÍS:
A la pista no es podrà jugar a pilota, patins, skaters,.. a partir de les 17h.Lloc: Pista poliesportivaOrganitzador: ANC - ULLASTRELL
URI:https://www.ullastrell.cat/actualitat/agenda/actes-11-de-setembre-campanya-anc-desitjos-voladors.html
CLASS:PUBLIC
END:VEVENT
END:VCALENDAR
