BEGIN:VCALENDAR
VERSION:2.0
CALSCALE:GREGORIAN
PRODID:-//Diputació de Barcelona//DibaCMS//EN
BEGIN:VEVENT
UID:2607
DTSTAMP:20260422T131533
DTSTART:20150910T210000
DTEND:20150910T000000
SUMMARY:ACTES 11 DE SETEMBRE - Sopar pro-viatge 6è
LOCATION:
METHOD:PUBLISH
X-WR-CALNAME:ullastrell@ullastrell.cat
X-WR-TIMEZONE:Europe/Madrid
DESCRIPTION:Sopar botifarrada popular pro-viatge fi de curs de 6è dels nens i nenes de l'escola Serralavella.
El tiquet inclou:

Pa amb tomàquet i botifarra 
Beguda 
Gelat 

Preu: 5€
Per reservar tiquets, podeu enviar WhatsApp o mail a Albert Perés:

Mòbil: 648.687.972 
Mail: aperes@bbva.com 

Data límit reserva: dimecres 9 de setembre
Recollida de tiquets a partir de les 19h. del mateix dia 10 de setembre.
 
 
 
*AVÍS:
A la pista no es podrà jugar a pilota, patins, skaters,.. a partir de les 17h.
 Lloc: Pista poliesportivaOrganitzador: Classe de 6è - Escola Serralavella
URI:https://www.ullastrell.cat/actualitat/agenda/actes-11-de-setembre-sopar-pro-viatge-6e.html
CLASS:PUBLIC
END:VEVENT
END:VCALENDAR
