BEGIN:VCALENDAR
VERSION:2.0
CALSCALE:GREGORIAN
PRODID:-//Diputació de Barcelona//DibaCMS//EN
BEGIN:VEVENT
UID:2608
DTSTAMP:20260422T230901
DTSTART:20151012T090000
DTEND:20151012T000000
SUMMARY:SORTIDA GEGANTERA - 12/10/2015
LOCATION:
METHOD:PUBLISH
X-WR-CALNAME:ullastrell@ullastrell.cat
X-WR-TIMEZONE:Europe/Madrid
DESCRIPTION:Els gegants d'Ullastrell visitaràn el municipi de TorellóLloc: TorellóOrganitzador: Geganters d'Ullastrell
URI:https://www.ullastrell.cat/actualitat/agenda/sortida-gegantera-12102015.html
CLASS:PUBLIC
END:VEVENT
END:VCALENDAR
