BEGIN:VCALENDAR
VERSION:2.0
CALSCALE:GREGORIAN
PRODID:-//Diputació de Barcelona//DibaCMS//EN
BEGIN:VEVENT
UID:2609
DTSTAMP:20260423T032854
DTSTART:20151019T000000
DTEND:20151024T000000
SUMMARY:SORTIDA GENT GRAN - 19/10/2015
LOCATION:
METHOD:PUBLISH
X-WR-CALNAME:ullastrell@ullastrell.cat
X-WR-TIMEZONE:Europe/Madrid
DESCRIPTION:La Colla de la Gent Gran marxa uns dies a visitar Salamanca i Àvila.Lloc: Salamanca - ÀvilaOrganitzador: Colla de la Gent Gran
URI:https://www.ullastrell.cat/actualitat/agenda/sortida-gent-gran-19102015.html
CLASS:PUBLIC
END:VEVENT
END:VCALENDAR
