BEGIN:VCALENDAR
VERSION:2.0
CALSCALE:GREGORIAN
PRODID:-//Diputació de Barcelona//DibaCMS//EN
BEGIN:VEVENT
UID:2610
DTSTAMP:20260422T162518
DTSTART:20151101T170000
DTEND:20151101T000000
SUMMARY:PREGÀRIA FIDELS DIFUNTS
LOCATION:
METHOD:PUBLISH
X-WR-CALNAME:ullastrell@ullastrell.cat
X-WR-TIMEZONE:Europe/Madrid
DESCRIPTION:PREGARIA FIDELS DIFUNTSPREGARIA PER TOTS ELS FIDELS DIFUNTSLloc: CEMENTIRI Organitzador: PARRÒQUIA DE SANTA MARIA D'ULLASTRELL
URI:https://www.ullastrell.cat/actualitat/agenda/pregaria-fidels-difunts.html
CLASS:PUBLIC
END:VEVENT
END:VCALENDAR
