BEGIN:VCALENDAR
VERSION:2.0
CALSCALE:GREGORIAN
PRODID:-//Diputació de Barcelona//DibaCMS//EN
BEGIN:VEVENT
UID:2611
DTSTAMP:20260422T233050
DTSTART:20151114T120000
DTEND:20151114T000000
SUMMARY:PARTICIPACIÓ CORAL D'ULLASTRELL A LA MISSA DE SANTA MARIA DEL MAR
LOCATION:
METHOD:PUBLISH
X-WR-CALNAME:ullastrell@ullastrell.cat
X-WR-TIMEZONE:Europe/Madrid
DESCRIPTION:Participació a la Missa del Gremi d'OliairesLa Confraria de la Mare de Déu de l'Olivera celebra la seva Missa a Santa Maria del Mar de Barcelona, on es nomenen nous confrares, la Coral d'Ullastrell cantarà a la Missa, oferint a continuació un petit concert.Lloc: SANTA MARIA DEL MAR - BARCELONAOrganitzador: CORAL ULLASTRELL
URI:https://www.ullastrell.cat/actualitat/agenda/participacio-coral-dullastrell-a-la-missa-de-santa-maria-del-mar.html
CLASS:PUBLIC
END:VEVENT
END:VCALENDAR
