BEGIN:VCALENDAR
VERSION:2.0
CALSCALE:GREGORIAN
PRODID:-//Diputació de Barcelona//DibaCMS//EN
BEGIN:VEVENT
UID:2612
DTSTAMP:20260422T160529
DTSTART:20151121T193000
DTEND:20151121T000000
SUMMARY:PARTICIPACIÓ CORAL D'ULLASTRELL A LA MISSA DE SANTA CECILIA
LOCATION:
METHOD:PUBLISH
X-WR-CALNAME:ullastrell@ullastrell.cat
X-WR-TIMEZONE:Europe/Madrid
DESCRIPTION:Participació a la celebració de Santa Cecília, a la missa de la Catedral de TerrassaLa Coral d'Ullastrell participarà a la celebració de Santa Cecília patrona de la música, cantant a la missa que se celebrarà a la Catedral de Terrassa, oferint al final un petit concert.Lloc: CATEDRAL DE TERRASSAOrganitzador: CORAL D'ULLASTRELL
URI:https://www.ullastrell.cat/actualitat/agenda/participacio-coral-dullastrell-a-la-missa-de-santa-cecilia.html
CLASS:PUBLIC
END:VEVENT
END:VCALENDAR
