BEGIN:VCALENDAR
VERSION:2.0
CALSCALE:GREGORIAN
PRODID:-//Diputació de Barcelona//DibaCMS//EN
BEGIN:VEVENT
UID:2613
DTSTAMP:20260422T160552
DTSTART:20151122T090000
DTEND:20151122T000000
SUMMARY:SORTIDA GEGANTERA - 22/11/2015
LOCATION:
METHOD:PUBLISH
X-WR-CALNAME:ullastrell@ullastrell.cat
X-WR-TIMEZONE:Europe/Madrid
DESCRIPTION:Els gegants d'Ullastrell visitaràn la veïna població de Sant Llorenç Savall.Lloc: Sant Llorenç SavallOrganitzador: Colla de geganters d'Ullastrell
URI:https://www.ullastrell.cat/actualitat/agenda/sortida-gegantera-22112015.html
CLASS:PUBLIC
END:VEVENT
END:VCALENDAR
