BEGIN:VCALENDAR
VERSION:2.0
CALSCALE:GREGORIAN
PRODID:-//Diputació de Barcelona//DibaCMS//EN
BEGIN:VEVENT
UID:2614
DTSTAMP:20260422T203340
DTSTART:20151202T210000
DTEND:20151202T220000
SUMMARY:REUNIÓ INFORMATIVA SUBVENCIONS ENTITATS 2015
LOCATION:
METHOD:PUBLISH
X-WR-CALNAME:ullastrell@ullastrell.cat
X-WR-TIMEZONE:Europe/Madrid
DESCRIPTION:El Regidor d'Entitats convoca a totes les entitats locals a una reunió informativa i per resoldre dubtes de les Bases de Convocatòria de les subvencions a entitats locals sense ànim de lucre 2015.
Serà a la Sala de Reunións de l'Ajuntament d'Ullastrell.Lloc: Ajuntament UllastrellOrganitzador: Regidoria d'Entitats
URI:https://www.ullastrell.cat/actualitat/agenda/reunio-informativa-subvencions-entitats-2015.html
CLASS:PUBLIC
END:VEVENT
END:VCALENDAR
