BEGIN:VCALENDAR
VERSION:2.0
CALSCALE:GREGORIAN
PRODID:-//Diputació de Barcelona//DibaCMS//EN
BEGIN:VEVENT
UID:2615
DTSTAMP:20260423T021815
DTSTART:20151212T180000
DTEND:20151213T130000
SUMMARY:CANTADA DE NADALES - 12/12/2015
LOCATION:
METHOD:PUBLISH
X-WR-CALNAME:ullastrell@ullastrell.cat
X-WR-TIMEZONE:Europe/Madrid
DESCRIPTION:Aquest dies la Coral oferirà petits tastest de Nadales:
DISSABTE 12  - 18h. - Participació a la Fira de Santa Llúcia d'Ullastrell
DIUMENGE 13 - 11h. - Cantada a la Residència d'Ullastrell
DIUMENGE 13 - 12h. - Cantada a la Residència Sant Llàtzer de Terrassa
 
...i no us perdeu el Concert de Nadal d'enguany que porta moltes sorpreses!!!Lloc: Ullastrell - TerrassaOrganitzador: CORAL ULLASTRELL
URI:https://www.ullastrell.cat/actualitat/agenda/cantada-de-nadales-12122015.html
CLASS:PUBLIC
END:VEVENT
END:VCALENDAR
