BEGIN:VCALENDAR
VERSION:2.0
CALSCALE:GREGORIAN
PRODID:-//Diputació de Barcelona//DibaCMS//EN
BEGIN:VEVENT
UID:2616
DTSTAMP:20260423T103501
DTSTART:20151216T000000
DTEND:20151216T000000
SUMMARY:SORTIDA PRE-NADAL
LOCATION:
METHOD:PUBLISH
X-WR-CALNAME:ullastrell@ullastrell.cat
X-WR-TIMEZONE:Europe/Madrid
DESCRIPTION:Com cada Nadal, La Colla de la Gent Gran, per aquestes dates organitza una sortida sorpresa.
A on aniran aquest dimecres...???
Vagin on vagin sempre ho gaudeixen molt!!Lloc: SorpresaOrganitzador: COLLA DE LA GENT GRAN
URI:https://www.ullastrell.cat/actualitat/agenda/sortida-pre-nadal.html
CLASS:PUBLIC
END:VEVENT
END:VCALENDAR
