BEGIN:VCALENDAR
VERSION:2.0
CALSCALE:GREGORIAN
PRODID:-//Diputació de Barcelona//DibaCMS//EN
BEGIN:VEVENT
UID:2618
DTSTAMP:20260422T185206
DTSTART:20151220T180000
DTEND:20151220T000000
SUMMARY:QUINTO - 20/12/2015
LOCATION:
METHOD:PUBLISH
X-WR-CALNAME:ullastrell@ullastrell.cat
X-WR-TIMEZONE:Europe/Madrid
DESCRIPTION:A les 18h. sessió infantil.
A partir de les 19h. per adults també.Lloc: Bar del CasalOrganitzador: Geganters d'Ullastrell
URI:https://www.ullastrell.cat/actualitat/agenda/quinto-20122015.html
CLASS:PUBLIC
END:VEVENT
END:VCALENDAR
