BEGIN:VCALENDAR
VERSION:2.0
CALSCALE:GREGORIAN
PRODID:-//Diputació de Barcelona//DibaCMS//EN
BEGIN:VEVENT
UID:2619
DTSTAMP:20260423T061259
DTSTART:20151224T000000
DTEND:20151224T000000
SUMMARY:MISSA DEL GALL - 24/12/2015
LOCATION:
METHOD:PUBLISH
X-WR-CALNAME:ullastrell@ullastrell.cat
X-WR-TIMEZONE:Europe/Madrid
DESCRIPTION:Després de la Missa del Gall es farà la representació del pessebre vivent a càrrec dels nens i nenes de catequesi i per acabar, cant de nadales amb mistela, coca i xocolata per a tothom.Lloc: Església Organitzador: Parròquia Santa Maria d'Ullastrell
URI:https://www.ullastrell.cat/actualitat/agenda/missa-del-gall-24122015.html
CLASS:PUBLIC
END:VEVENT
END:VCALENDAR
