BEGIN:VCALENDAR
VERSION:2.0
CALSCALE:GREGORIAN
PRODID:-//Diputació de Barcelona//DibaCMS//EN
BEGIN:VEVENT
UID:2620
DTSTAMP:20260423T051642
DTSTART:20151225T200000
DTEND:20151225T000000
SUMMARY:XXVII Mostra de Teatre "PER NADAL, JUGUEM A CASA"
LOCATION:
METHOD:PUBLISH
X-WR-CALNAME:ullastrell@ullastrell.cat
X-WR-TIMEZONE:Europe/Madrid
DESCRIPTION:Com cada dia de Nadal, el GATU prepara la representació teatral dins d'aquests 27ª Mostra de Teatre.
PER NADAL, JUGUEM A CASA es un muntatge de tres petites obres que ens ofereixen els joves.
- Estimada Kitty de Marta Agustí i dirigida per Xavi Montanyà és una adaptació del clàssic "El diari d'Anna Frank".
- La clínica dels embolics d'Adelaida Frías i dirigida per Pepa Montes i Mar Puig, és tot allò que pot arribar a passar a una clinica de malalts psíquics on hi trobarem princeses, amnèsics, superherois...
- Matilda, és un petit tastet del gran muntatge que estan preparan els petits de la casa.
 
*Venda d'entrades per als no abonats de 7a 8 de la tarda.Lloc: Sala d'actes del CasalOrganitzador: GATU
URI:https://www.ullastrell.cat/actualitat/agenda/xxvii-mostra-de-teatre-per-nadal-juguem-a-casa.html
CLASS:PUBLIC
END:VEVENT
END:VCALENDAR
