BEGIN:VCALENDAR
VERSION:2.0
CALSCALE:GREGORIAN
PRODID:-//Diputació de Barcelona//DibaCMS//EN
BEGIN:VEVENT
UID:2621
DTSTAMP:20260423T003637
DTSTART:20151226T200000
DTEND:20151226T000000
SUMMARY:CONCERT DE SANT ESTEVE - 26/12/2015
LOCATION:
METHOD:PUBLISH
X-WR-CALNAME:ullastrell@ullastrell.cat
X-WR-TIMEZONE:Europe/Madrid
DESCRIPTION:Enguany la Coral ha preparat un concert de Sant Esteve amb les tradicionals nadales i el Poema de Nadal de J.M. de Segarra amb la col.laboració del GATU.
No us ho perdeu!

Venda d'entrades:
Dissabte 26 de 12h. a 13h. i una hora abans del concert. Entrades numerades
Preu entrades:
7€ -Entrada general
5€ -Jubilats i menors de 5 anysLloc: Sala d'Actes del CasalOrganitzador: Coral d'Ullastrell
URI:https://www.ullastrell.cat/actualitat/agenda/concert-de-sant-esteve-26122015.html
CLASS:PUBLIC
END:VEVENT
END:VCALENDAR
