BEGIN:VCALENDAR
VERSION:2.0
CALSCALE:GREGORIAN
PRODID:-//Diputació de Barcelona//DibaCMS//EN
BEGIN:VEVENT
UID:2622
DTSTAMP:20260423T005843
DTSTART:20151226T103000
DTEND:20151226T000000
SUMMARY:36ª CURSA DEL BOLET - 15è Memorial Robert Colilles
LOCATION:
METHOD:PUBLISH
X-WR-CALNAME:ullastrell@ullastrell.cat
X-WR-TIMEZONE:Europe/Madrid
DESCRIPTION:Ja ha arribat la tradicional Cursa de Sant Esteve, per inscriure't visita la pàgina cursadelbolet.wordpress.com
Cronometratge amb xip.
Entre els 200 primers inscrits es farà un sorteig d'un sopar per 2 persones al restaurant Cal Taiet!
 
*No es podrà aparcar al llarg del recorregut.
 
 Lloc: Davant AjuntamentOrganitzador: Grup de Muntanya
URI:https://www.ullastrell.cat/actualitat/agenda/36a-cursa-del-bolet-15e-memorial-robert-colilles.html
CLASS:PUBLIC
END:VEVENT
END:VCALENDAR
