BEGIN:VCALENDAR
VERSION:2.0
CALSCALE:GREGORIAN
PRODID:-//Diputació de Barcelona//DibaCMS//EN
BEGIN:VEVENT
UID:2623
DTSTAMP:20260423T044756
DTSTART:20151225T220000
DTEND:20151225T000000
SUMMARY:QUINTO - 25/12/2015
LOCATION:
METHOD:PUBLISH
X-WR-CALNAME:ullastrell@ullastrell.cat
X-WR-TIMEZONE:Europe/Madrid
DESCRIPTION:Sessió de Quinto després de l'obra de teatre del GATU.Lloc: Bar del CasalOrganitzador: Geganters d'Ullastrell
URI:https://www.ullastrell.cat/actualitat/agenda/quinto-25122015.html
CLASS:PUBLIC
END:VEVENT
END:VCALENDAR
