BEGIN:VCALENDAR
VERSION:2.0
CALSCALE:GREGORIAN
PRODID:-//Diputació de Barcelona//DibaCMS//EN
BEGIN:VEVENT
UID:2624
DTSTAMP:20260423T061529
DTSTART:20151226T220000
DTEND:20151226T000000
SUMMARY:QUINTO - 26/12/2015
LOCATION:
METHOD:PUBLISH
X-WR-CALNAME:ullastrell@ullastrell.cat
X-WR-TIMEZONE:Europe/Madrid
DESCRIPTION:Sessió de Quinto després del concert de la CoralLloc: Bar del CasalOrganitzador: Geganters d'Ullastrell
URI:https://www.ullastrell.cat/actualitat/agenda/quinto-26122015.html
CLASS:PUBLIC
END:VEVENT
END:VCALENDAR
