BEGIN:VCALENDAR
VERSION:2.0
CALSCALE:GREGORIAN
PRODID:-//Diputació de Barcelona//DibaCMS//EN
BEGIN:VEVENT
UID:2625
DTSTAMP:20260422T185006
DTSTART:20151227T190000
DTEND:20151227T000000
SUMMARY:QUINTO - 27/12/2015
LOCATION:
METHOD:PUBLISH
X-WR-CALNAME:ullastrell@ullastrell.cat
X-WR-TIMEZONE:Europe/Madrid
DESCRIPTION:Partides del tradicional joc del QuintoLloc: Bar del CasalOrganitzador: Geganters d'Ullastrell
URI:https://www.ullastrell.cat/actualitat/agenda/quinto-27122015.html
CLASS:PUBLIC
END:VEVENT
END:VCALENDAR
