BEGIN:VCALENDAR
VERSION:2.0
CALSCALE:GREGORIAN
PRODID:-//Diputació de Barcelona//DibaCMS//EN
BEGIN:VEVENT
UID:2626
DTSTAMP:20260422T214248
DTSTART:20160101T190000
DTEND:20160101T000000
SUMMARY:QUINTO - 01/01/2016
LOCATION:
METHOD:PUBLISH
X-WR-CALNAME:ullastrell@ullastrell.cat
X-WR-TIMEZONE:Europe/Madrid
DESCRIPTION:Partides del tradicional joc del QuintoLloc: Bar del CasalOrganitzador: Geganters d'Ullastrell
URI:https://www.ullastrell.cat/actualitat/agenda/quinto-01012016.html
CLASS:PUBLIC
END:VEVENT
END:VCALENDAR
