BEGIN:VCALENDAR
VERSION:2.0
CALSCALE:GREGORIAN
PRODID:-//Diputació de Barcelona//DibaCMS//EN
BEGIN:VEVENT
UID:2627
DTSTAMP:20260423T060513
DTSTART:20160102T213000
DTEND:20160102T000000
SUMMARY:QUINTO - 02/01/2016
LOCATION:
METHOD:PUBLISH
X-WR-CALNAME:ullastrell@ullastrell.cat
X-WR-TIMEZONE:Europe/Madrid
DESCRIPTION:Partides d'aquest tradicional joc de Nadal.Lloc: Bar del CasalOrganitzador: Geganters d'Ullastrell
URI:https://www.ullastrell.cat/actualitat/agenda/quinto-02012016.html
CLASS:PUBLIC
END:VEVENT
END:VCALENDAR
