BEGIN:VCALENDAR
VERSION:2.0
CALSCALE:GREGORIAN
PRODID:-//Diputació de Barcelona//DibaCMS//EN
BEGIN:VEVENT
UID:2628
DTSTAMP:20260423T044340
DTSTART:20160103T180000
DTEND:20160103T000000
SUMMARY:QUINTO - 03/01/2016
LOCATION:
METHOD:PUBLISH
X-WR-CALNAME:ullastrell@ullastrell.cat
X-WR-TIMEZONE:Europe/Madrid
DESCRIPTION:Partides d'aquest tradicional joc de Nadal
A les 18h. sessió infantil
A partir de les 19h. per a adults també.Lloc: Bar del CasalOrganitzador: Geganters d'Ullastrell
URI:https://www.ullastrell.cat/actualitat/agenda/quinto-03012016.html
CLASS:PUBLIC
END:VEVENT
END:VCALENDAR
