BEGIN:VCALENDAR
VERSION:2.0
CALSCALE:GREGORIAN
PRODID:-//Diputació de Barcelona//DibaCMS//EN
BEGIN:VEVENT
UID:2629
DTSTAMP:20260423T073940
DTSTART:20160106T190000
DTEND:20160106T000000
SUMMARY:QUINTO - 06/01/2016
LOCATION:
METHOD:PUBLISH
X-WR-CALNAME:ullastrell@ullastrell.cat
X-WR-TIMEZONE:Europe/Madrid
DESCRIPTION:Partides d'aquest tradicional joc de Nadal.
Si no heu picat encara, aprofiteu que aquesta és la última sessió!Lloc: Bar del CasalOrganitzador: Geganters d'Ullastrell
URI:https://www.ullastrell.cat/actualitat/agenda/quinto-06012016.html
CLASS:PUBLIC
END:VEVENT
END:VCALENDAR
