BEGIN:VCALENDAR
VERSION:2.0
CALSCALE:GREGORIAN
PRODID:-//Diputació de Barcelona//DibaCMS//EN
BEGIN:VEVENT
UID:2630
DTSTAMP:20260423T044618
DTSTART:20160105T110000
DTEND:20160105T000000
SUMMARY:ESQUELLOTS - 05/01/2016
LOCATION:
METHOD:PUBLISH
X-WR-CALNAME:ullastrell@ullastrell.cat
X-WR-TIMEZONE:Europe/Madrid
DESCRIPTION:Vine a fer els esquellots i a passejar-los per tot el poble per què els Reis Mags ens escoltin ben fort i arribin a Ullastrell!
Podeu portar llaunes per fer-los, i pals per picar-los.
Tots els nens i nenes que vinguin tindran un tiquet per passar per la cua de prioritat a l'hora de portar la carta als Reis.Lloc: PistaOrganitzador: AMPA SERRALAVELLA
URI:https://www.ullastrell.cat/actualitat/agenda/esquellots-05012016.html
CLASS:PUBLIC
END:VEVENT
END:VCALENDAR
