BEGIN:VCALENDAR
VERSION:2.0
CALSCALE:GREGORIAN
PRODID:-//Diputació de Barcelona//DibaCMS//EN
BEGIN:VEVENT
UID:2631
DTSTAMP:20260423T122345
DTSTART:20160310T210000
DTEND:20160310T000000
SUMMARY:PROJECCIÓ PEL.LÍCULA " FRANCISCO"
LOCATION:
METHOD:PUBLISH
X-WR-CALNAME:ullastrell@ullastrell.cat
X-WR-TIMEZONE:Europe/Madrid
DESCRIPTION:Projecció pel.lícula " Francisco" sobre el Papa Francesc, Projecció de la pel.lícula " Francisco" sobre la vida del Papa Francesc i xerrada col.loquiLloc: SALA DE REUNIONS DE LA PARRÒQUIAOrganitzador: PARROQUIA DE SANTA MARIA D'ULLASTRELL
URI:https://www.ullastrell.cat/actualitat/agenda/projeccio-pellicula--francisco.html
CLASS:PUBLIC
END:VEVENT
END:VCALENDAR
