BEGIN:VCALENDAR
VERSION:2.0
CALSCALE:GREGORIAN
PRODID:-//Diputació de Barcelona//DibaCMS//EN
BEGIN:VEVENT
UID:2632
DTSTAMP:20260422T162818
DTSTART:20151024T100000
DTEND:20151024T000000
SUMMARY:FUTBOL 7 PREBENJAMÍ: C.F.ULLASTRELL- EL CIM
LOCATION:
METHOD:PUBLISH
X-WR-CALNAME:ullastrell@ullastrell.cat
X-WR-TIMEZONE:Europe/Madrid
DESCRIPTION:PARTIT DE FUTBOL 7 , CATEGORIA PREBENJAMÍPartit de futbol categoria prebenjamí, jocs escolars curs 2015-2016Lloc: CAMP DE FUTBOL MUNICIPALOrganitzador: C.F.ULLASTRELL
URI:https://www.ullastrell.cat/actualitat/agenda/futbol-7-prebenjami-cfullastrell-el-cim.html
CLASS:PUBLIC
END:VEVENT
END:VCALENDAR
